BEGIN:VCALENDAR
VERSION:2.0
PRODID:-//ChamberMaster//Event Calendar 2.0//EN
METHOD:PUBLISH
X-PUBLISHED-TTL:P3D
REFRESH-INTERVAL:P3D
CALSCALE:GREGORIAN
BEGIN:VEVENT
DTSTART:20190127T213000Z
DTEND:20190127T230000Z
X-MICROSOFT-CDO-ALLDAYEVENT:FALSE
SUMMARY:Sultans of String
DESCRIPTION:The Sultans of String\, a hot trio from Toronto\, composed of violin\, guitar and bass\, will set you on fire Sunday\, January 27 at 5:00 pm in the Fripp Community Centre\, 205 Tarpon Boulevard\, sponsored by Fripp Friends of Music and supported by the SCAC. Attendees get a free pass at the Fripp gate. Tickets at the door: adults $30 (cash or check only)\, students free. You are invited to join the trio at a complimentary catered reception after the show. www.frippfriendsofmusic.com or call 843-263-5916.
X-ALT-DESC;FMTTYPE=text/html:<span style="color: rgb(29\, 33\, 41)\; font-family: system-ui\, -apple-system\, system-ui\, &quot\;.SFNSText-Regular&quot\;\, sans-serif\; font-size: 14px\;">The Sultans of String\, a hot trio from Toronto\, composed of violin\, guitar and bass\, will set you on fire Sunday\, January 27 at 5:00 pm in the Fripp Community Centre\, 205 Tarpon Boulevard\, sponsored by Fripp Friends of Music and supported by the SCAC. Attendees get a free pass at the Fripp gate. Tickets at the door: adults $30 (cash or check only)\, students free. You are invited to join the trio at a complimentary catered reception after the show.&nbsp\;</span><a data-lynx-mode="hover" data-lynx-uri="https://l.facebook.com/l.php?u=http%3A%2F%2Fwww.frippfriendsofmusic.com%2F%3Ffbclid%3DIwAR1X5xpQatNNn3dayS4_09sb0uzL7AV_85uPfw1FW80fahuAoT1YCggJYek&amp\;h=AT0sl11hqHqmb98ZVW32mvVCUwvgT-EiVy_HeVRbDN4UpcTc3HlZ29iaJvmRMZdWFd72GKMaOOQzCWwi5vaLB62oFhXL1PACSckeThRR8VKDF-0EQ5ys6joL21YPWl2oBKaziw" href="http://www.frippfriendsofmusic.com/?fbclid=IwAR1X5xpQatNNn3dayS4_09sb0uzL7AV_85uPfw1FW80fahuAoT1YCggJYek" rel="nofollow noopener" style="color: rgb(54\, 88\, 153)\; cursor: pointer\; text-decoration-line: none\; font-family: system-ui\, -apple-system\, system-ui\, &quot\;.SFNSText-Regular&quot\;\, sans-serif\; font-size: 14px\;" target="_blank">www.frippfriendsofmusic.com</a><span style="color: rgb(29\, 33\, 41)\; font-family: system-ui\, -apple-system\, system-ui\, &quot\;.SFNSText-Regular&quot\;\, sans-serif\; font-size: 14px\;">&nbsp\;or call 843-263-5916.</span>
LOCATION:Fripp Community Centre\, 205 Tarpon Boulevard
UID:e.1212.10728
SEQUENCE:3
DTSTAMP:20260422T233822Z
URL:https://business.beaufortchamber.org/events/details/sultans-of-string-10728
END:VEVENT

END:VCALENDAR
