BEGIN:VCALENDAR
VERSION:2.0
PRODID:-//ChamberMaster//Event Calendar 2.0//EN
METHOD:PUBLISH
X-PUBLISHED-TTL:P3D
REFRESH-INTERVAL:P3D
CALSCALE:GREGORIAN
BEGIN:VEVENT
DTSTART;VALUE=DATE:20190503
DTEND;VALUE=DATE:20190505
TRANSP:TRANSPARENT
X-MICROSOFT-CDO-ALLDAYEVENT:TRUE
SUMMARY:Taste of Beaufort
DESCRIPTION:This year's Taste of Beaufort will stay true to the tradition of being a fun-filled weekend featuring great food\, music\, entertainment\, art & crafts\, a Saturday morning 5K run/walk and more! Join us and get a taste of some of the best that Beaufort has to offer. \n\n\n\nThis year's festival will include an additional bite   a series of intimate music performances hosted by various venues within Beaufort's Cultural District in downtown. The series will kick off Friday with a free lunch and listen jazz performance at 11:30am on the lawn of USCB's Center for the Arts. Musical guests from Charleston will be featured during the Saturday line up and the series will conclude with another free concert at 1st Presbyterian Church on Sunday May 5th.
X-ALT-DESC;FMTTYPE=text/html:<span style="color: rgb(29\, 33\, 41)\; font-family: system-ui\, -apple-system\, system-ui\, &quot\;.SFNSText-Regular&quot\;\, sans-serif\; font-size: 14px\; white-space: pre-wrap\;">This year&rsquo\;s Taste of Beaufort will stay true to the tradition of being a fun-filled weekend featuring great food\, music\, entertainment\, art &amp\; crafts\, a Saturday morning 5K run/walk and more! Join us and get a taste of some of the best that Beaufort has to offer. </span><br style="color: rgb(29\, 33\, 41)\; font-family: system-ui\, -apple-system\, system-ui\, &quot\;.SFNSText-Regular&quot\;\, sans-serif\; font-size: 14px\; white-space: pre-wrap\;" />\n<br style="color: rgb(29\, 33\, 41)\; font-family: system-ui\, -apple-system\, system-ui\, &quot\;.SFNSText-Regular&quot\;\, sans-serif\; font-size: 14px\; white-space: pre-wrap\;" />\n<span style="color: rgb(29\, 33\, 41)\; font-family: system-ui\, -apple-system\, system-ui\, &quot\;.SFNSText-Regular&quot\;\, sans-serif\; font-size: 14px\; white-space: pre-wrap\;">This year&rsquo\;s festival will include an additional bite &ndash\; a series of intimate music performances hosted by various venues within Beaufort&rsquo\;s Cultural District in downtown. The series will kick off Friday with a free lunch and listen jazz performance at 11:30am on the lawn of USCB&rsquo\;s Center for the Arts. Musical guests from Charleston will be featured during the Saturday line up and the series will conclude with another free concert at 1st Presbyterian Church on Sunday May 5th. </span>
LOCATION:Henry C. Chambers Waterfront Park Beaufort\, SC
UID:e.1212.11502
SEQUENCE:3
DTSTAMP:20260422T175240Z
URL:https://business.beaufortchamber.org/events/details/taste-of-beaufort-11502
END:VEVENT

END:VCALENDAR
