BEGIN:VCALENDAR
VERSION:2.0
PRODID:-//ChamberMaster//Event Calendar 2.0//EN
METHOD:PUBLISH
X-PUBLISHED-TTL:P3D
REFRESH-INTERVAL:P3D
CALSCALE:GREGORIAN
BEGIN:VEVENT
DTSTART;VALUE=DATE:20080127
DTEND;VALUE=DATE:20080128
TRANSP:TRANSPARENT
X-MICROSOFT-CDO-ALLDAYEVENT:TRUE
SUMMARY:Taylor Festival Choir Midwinter Reflections
DESCRIPTION:The Taylor Music Group is a professional choir in residence at the College of Charleston and selected to\nperform at 2008 Southern Division of the American Choral Directors Association Convention.    Cost:\n$20 adult\, $5 student/senior/child.  Get a sneak preview of their convention performance.
X-ALT-DESC;FMTTYPE=text/html:The Taylor Music Group is a professional choir in residence at the College of Charleston and selected to\nperform at 2008 Southern Division of the American Choral Directors Association Convention.    Cost:\n$20 adult\, $5 student/senior/child.  Get a sneak preview of their convention performance.
LOCATION:
UID:e.1212.2145
SEQUENCE:3
DTSTAMP:20260425T005851Z
URL:https://business.beaufortchamber.org/events/details/taylor-festival-choir-midwinter-reflections-01-27-2008-2145
END:VEVENT

END:VCALENDAR
