BEGIN:VCALENDAR
VERSION:2.0
PRODID:-//ChamberMaster//Event Calendar 2.0//EN
METHOD:PUBLISH
X-PUBLISHED-TTL:P3D
REFRESH-INTERVAL:P3D
CALSCALE:GREGORIAN
BEGIN:VEVENT
DTSTART;VALUE=DATE:20081112
DTEND;VALUE=DATE:20081113
TRANSP:TRANSPARENT
X-MICROSOFT-CDO-ALLDAYEVENT:TRUE
SUMMARY:Technical College of the Lowcountry - Career Expo
DESCRIPTION:Expo will allow job seekers to meet potential employers\, submit re'sume's and gain interviewing experience.  Current TCL students and TCL alumni come and take advantage of free career counseling services.  Dress for interview and bring copies of re'sume'.  Free and open to the public.
X-ALT-DESC;FMTTYPE=text/html:Expo will allow job seekers to meet potential employers\, submit re'sume's and gain interviewing experience.  Current TCL students and TCL alumni come and take advantage of free career counseling services.  Dress for interview and bring copies of re'sume'.  Free and open to the public.
LOCATION:
UID:e.1212.2792
SEQUENCE:3
DTSTAMP:20260425T150632Z
URL:https://business.beaufortchamber.org/events/details/technical-college-of-the-lowcountry-career-expo-11-12-2008-2792
END:VEVENT

END:VCALENDAR
