BEGIN:VCALENDAR
VERSION:2.0
PRODID:-//ChamberMaster//Event Calendar 2.0//EN
METHOD:PUBLISH
X-PUBLISHED-TTL:P3D
REFRESH-INTERVAL:P3D
CALSCALE:GREGORIAN
BEGIN:VEVENT
DTSTART;VALUE=DATE:20081116
DTEND;VALUE=DATE:20081117
TRANSP:TRANSPARENT
X-MICROSOFT-CDO-ALLDAYEVENT:TRUE
SUMMARY:The Aspen Santa Fe Ballet
DESCRIPTION:The Aspen Santa Fe Ballet is a company of twelve classically trained dancers who perform an eclectic repertoire by some of the world's foremost choreographers. For questions or tickets\, please call the number listed.  Individual tickets are $40\, $35 and $30.
X-ALT-DESC;FMTTYPE=text/html:The Aspen Santa Fe Ballet is a company of twelve classically trained dancers who perform an eclectic repertoire by some of the world's foremost choreographers. For questions or tickets\, please call the number listed.  Individual tickets are $40\, $35 and $30.
LOCATION:
UID:e.1212.2515
SEQUENCE:3
DTSTAMP:20260425T145746Z
URL:https://business.beaufortchamber.org/events/details/the-aspen-santa-fe-ballet-11-16-2008-2515
END:VEVENT

END:VCALENDAR
