BEGIN:VCALENDAR
VERSION:2.0
PRODID:-//ChamberMaster//Event Calendar 2.0//EN
METHOD:PUBLISH
X-PUBLISHED-TTL:P3D
REFRESH-INTERVAL:P3D
CALSCALE:GREGORIAN
BEGIN:VEVENT
DTSTART;VALUE=DATE:20080306
DTEND;VALUE=DATE:20080307
TRANSP:TRANSPARENT
X-MICROSOFT-CDO-ALLDAYEVENT:TRUE
SUMMARY:The Beaufort Kaleidoscope: Film\, Food & Fine Art Festival
DESCRIPTION:The Beaufort Kaleidoscope: Film\, Food   Learn More About the Films
X-ALT-DESC;FMTTYPE=text/html:The Beaufort Kaleidoscope: Film\, Food & Fine Art\, in its second year\, is scheduled for March 6-9\, 2008. It includes the <i>Great Chefs of the South</i> event which previously celebrated fine Southern cuisine\, the <i>Beaufort Film Festival</i> and the <i>Kaleidoscope Art Walk</i> presented by the Guild of Beaufort Galleries.  The event is presented by Habersham Land Company and produced by the Beaufort Regional Chamber of Commerce.  <A HREF="http://66.194.119.5/c_images/Kaleidoscope%20overview.pdf">Schedule and Ticket Prices</A>\; <A HREF="http://66.194.119.5/c_images/Entries%20for%20Film%20Festival%202008.pdf">Learn More About the Films</A>\n
LOCATION:Beaufort
UID:e.1212.1760
SEQUENCE:3
DTSTAMP:20260425T025245Z
URL:https://business.beaufortchamber.org/events/details/the-beaufort-kaleidoscope-film-food-fine-art-festival-03-06-2008-1760
END:VEVENT

END:VCALENDAR
