BEGIN:VCALENDAR
VERSION:2.0
PRODID:-//ChamberMaster//Event Calendar 2.0//EN
METHOD:PUBLISH
X-PUBLISHED-TTL:P3D
REFRESH-INTERVAL:P3D
CALSCALE:GREGORIAN
BEGIN:VEVENT
DTSTART;VALUE=DATE:20071028
DTEND;VALUE=DATE:20071029
TRANSP:TRANSPARENT
X-MICROSOFT-CDO-ALLDAYEVENT:TRUE
SUMMARY:The Beaufort Orchestra October Concert
DESCRIPTION:Virtuoso Composers of the 19th Century!  Paganini:  Violin Concerto in D with Tamas Kocsis soloist\,\nMendelssohn:  Symphony #3 "Scottish".  Tickets may be purchased at the Beaufort Regional Chamber of\nCommerce.
X-ALT-DESC;FMTTYPE=text/html:Virtuoso Composers of the 19th Century!  Paganini:  Violin Concerto in D with Tamas Kocsis soloist\,\nMendelssohn:  Symphony #3 "Scottish".  Tickets may be purchased at the Beaufort Regional Chamber of\nCommerce.
LOCATION:
UID:e.1212.1697
SEQUENCE:3
DTSTAMP:20260424T195907Z
URL:https://business.beaufortchamber.org/events/details/the-beaufort-orchestra-october-concert-10-28-2007-1697
END:VEVENT

END:VCALENDAR
