BEGIN:VCALENDAR
VERSION:2.0
PRODID:-//ChamberMaster//Event Calendar 2.0//EN
METHOD:PUBLISH
X-PUBLISHED-TTL:P3D
REFRESH-INTERVAL:P3D
CALSCALE:GREGORIAN
BEGIN:VEVENT
DTSTART;VALUE=DATE:20081023
DTEND;VALUE=DATE:20081024
TRANSP:TRANSPARENT
X-MICROSOFT-CDO-ALLDAYEVENT:TRUE
SUMMARY:The Beaufort Orchestra - Scandinavian Magic
DESCRIPTION:Grieg Piano Concerto in A minor\, featuring pianist\, Arthur Tollefson\, Grieg Peer Gynt Suite #1 and Sibelius Finlandia.  Season tickets available.  All tickets $30 at the door.
X-ALT-DESC;FMTTYPE=text/html:Grieg Piano Concerto in A minor\, featuring pianist\, Arthur Tollefson\, Grieg Peer Gynt Suite #1 and Sibelius Finlandia.  Season tickets available.  All tickets $30 at the door.
LOCATION:
UID:e.1212.2547
SEQUENCE:3
DTSTAMP:20260425T145813Z
URL:https://business.beaufortchamber.org/events/details/the-beaufort-orchestra-scandinavian-magic-10-23-2008-2547
END:VEVENT

END:VCALENDAR
