BEGIN:VCALENDAR
VERSION:2.0
PRODID:-//ChamberMaster//Event Calendar 2.0//EN
METHOD:PUBLISH
X-PUBLISHED-TTL:P3D
REFRESH-INTERVAL:P3D
CALSCALE:GREGORIAN
BEGIN:VEVENT
DTSTART;VALUE=DATE:20071006
DTEND;VALUE=DATE:20071007
TRANSP:TRANSPARENT
X-MICROSOFT-CDO-ALLDAYEVENT:TRUE
SUMMARY:The Beaufort Shrimp Festival - Saturday's Festivities
DESCRIPTION:Food\, drink and more entertainment! Area restaurants will be serving a variety of wonderful shrimp dishes made from local shrimp.  These restaurants will be competing for the best shrimp dish.  There will be limited alternative foods as well. Free admission\, tickets required for food and drink\; craft booths and food/beverage stands open at 11 a.m.\; music by the Rickey Godfrey Band starts at 11 a.m.\; the Silver Cup\, People's Choice and Best Booth Awards will be presented at 1:30p.m.\; the shrimp heading contest (for adults) and the shrimp peeling contest (for kids) will also be at 1:30p.m.\; at 3 p.m. Gaslight Street will be performing.  FUN AND GREAT FOOD ALL DAY!\n\nMedia partner: John FM                                                                                                                                               Visit this link: Shrimp Festival
X-ALT-DESC;FMTTYPE=text/html:Food\, drink and more entertainment! Area restaurants will be serving a variety of wonderful shrimp dishes made from local shrimp.  These restaurants will be competing for the best shrimp dish.  There will be limited alternative foods as well. Free admission\, tickets required for food and drink\; craft booths and food/beverage stands open at 11 a.m.\; music by the Rickey Godfrey Band starts at 11 a.m.\; the Silver Cup\, People's Choice and Best Booth Awards will be presented at 1:30p.m.\; the shrimp heading contest (for adults) and the shrimp peeling contest (for kids) will also be at 1:30p.m.\; at 3 p.m. Gaslight Street will be performing.  FUN AND GREAT FOOD ALL DAY!\n\n<b>Media partner: John FM</b>                                                                                                                                               <b>Visit this link:</b> <A HREF=http://www.beaufortsc.org/gen_ipage.php?cat=visitor&subcat=fest_events&submenu=Shrimp /">Shrimp Festival</A>
LOCATION:
UID:e.1212.1333
SEQUENCE:3
DTSTAMP:20260424T200328Z
URL:https://business.beaufortchamber.org/events/details/the-beaufort-shrimp-festival-saturday-s-festivities-10-06-2007-1333
END:VEVENT

END:VCALENDAR
