BEGIN:VCALENDAR
VERSION:2.0
PRODID:-//ChamberMaster//Event Calendar 2.0//EN
METHOD:PUBLISH
X-PUBLISHED-TTL:P3D
REFRESH-INTERVAL:P3D
CALSCALE:GREGORIAN
BEGIN:VEVENT
DTSTART;VALUE=DATE:20080822
DTEND;VALUE=DATE:20080823
TRANSP:TRANSPARENT
X-MICROSOFT-CDO-ALLDAYEVENT:TRUE
SUMMARY:The Chocolate Tree's 24th Annual 'All You Can Eat Night'
DESCRIPTION:The Chocolate Tree announces their 24th Annual "All You Can Eat Night".  First Session - 6:30 PM - 8:15 PM. Second Session - 8:30 PM - 10:15 PM.  Advanced tickets are available for sale at a price of $12.  Experience the peanut brittle process and eat it while it's warm.  Space is limited so get your tickets now!
X-ALT-DESC;FMTTYPE=text/html:The Chocolate Tree announces their 24th Annual "All You Can Eat Night".  First Session - 6:30 PM - 8:15 PM. Second Session - 8:30 PM - 10:15 PM.  Advanced tickets are available for sale at a price of $12.  Experience the peanut brittle process and eat it while it's warm.  Space is limited so get your tickets now!
LOCATION:Beaufort
UID:e.1212.2607
SEQUENCE:3
DTSTAMP:20260425T105815Z
URL:https://business.beaufortchamber.org/events/details/the-chocolate-tree-s-24th-annual-all-you-can-eat-night-08-22-2008-2607
END:VEVENT

END:VCALENDAR
