BEGIN:VCALENDAR
VERSION:2.0
PRODID:-//ChamberMaster//Event Calendar 2.0//EN
METHOD:PUBLISH
X-PUBLISHED-TTL:P3D
REFRESH-INTERVAL:P3D
CALSCALE:GREGORIAN
BEGIN:VEVENT
DTSTART;VALUE=DATE:20080308
DTEND;VALUE=DATE:20080309
TRANSP:TRANSPARENT
X-MICROSOFT-CDO-ALLDAYEVENT:TRUE
SUMMARY:The East Coast's Largest Outdoor Public Tasting & Auction
DESCRIPTION:Held at Shelter Cove Community Park\, Hilton Head Island.  Noon to 1:00 PM\, Trade Only.    Admission $40 per person.  Call for details.  Sponsored by the Hilton Head Area Hospitality Association.
X-ALT-DESC;FMTTYPE=text/html:Held at Shelter Cove Community Park\, Hilton Head Island.  Noon to 1:00 PM\, Trade Only.    Admission $40 per person.  Call for details.  Sponsored by the Hilton Head Area Hospitality Association.
LOCATION:
UID:e.1212.2196
SEQUENCE:3
DTSTAMP:20260425T024744Z
URL:https://business.beaufortchamber.org/events/details/the-east-coast-s-largest-outdoor-public-tasting-auction-03-08-2008-2196
END:VEVENT

END:VCALENDAR
