BEGIN:VCALENDAR
VERSION:2.0
PRODID:-//ChamberMaster//Event Calendar 2.0//EN
METHOD:PUBLISH
X-PUBLISHED-TTL:P3D
REFRESH-INTERVAL:P3D
CALSCALE:GREGORIAN
BEGIN:VEVENT
DTSTART;VALUE=DATE:20081009
DTEND;VALUE=DATE:20081010
TRANSP:TRANSPARENT
X-MICROSOFT-CDO-ALLDAYEVENT:TRUE
SUMMARY:The East Village Opera Company
DESCRIPTION:Universally hailed by classical and rock music critics and fans alike.  Not your usual "hooked on classics"\napproach\, rather a colloboration between Mozart and The Who or Puccini and Queen.   For questions or tickets\, please call the number listed.  Individual tickets are $40\, $35 and $30.  Season tickets available.
X-ALT-DESC;FMTTYPE=text/html:Universally hailed by classical and rock music critics and fans alike.  Not your usual "hooked on classics"\napproach\, rather a colloboration between Mozart and The Who or Puccini and Queen.   For questions or tickets\, please call the number listed.  Individual tickets are $40\, $35 and $30.  Season tickets available.
LOCATION:
UID:e.1212.2514
SEQUENCE:3
DTSTAMP:20260425T151430Z
URL:https://business.beaufortchamber.org/events/details/the-east-village-opera-company-10-09-2008-2514
END:VEVENT

END:VCALENDAR
