BEGIN:VCALENDAR
VERSION:2.0
PRODID:-//ChamberMaster//Event Calendar 2.0//EN
METHOD:PUBLISH
X-PUBLISHED-TTL:P3D
REFRESH-INTERVAL:P3D
CALSCALE:GREGORIAN
BEGIN:VEVENT
DTSTART;VALUE=DATE:20081028
DTEND;VALUE=DATE:20081029
TRANSP:TRANSPARENT
X-MICROSOFT-CDO-ALLDAYEVENT:TRUE
SUMMARY:The Event of the Season
DESCRIPTION:Join us for a Fall Fashion Show and Card Party sponsored by Belk Department Store and the Business Professional Women of Beaufort.  Board games welcome.  HorsD'oeuvre's\, refreshments\, and door prizes.  Advanced Tickets $10  Door Tickets $12.  Tickets available at UPS Store in Cross Creek Shopping Center.
X-ALT-DESC;FMTTYPE=text/html:Join us for a Fall Fashion Show and Card Party sponsored by Belk Department Store and the Business Professional Women of Beaufort.  Board games welcome.  HorsD'oeuvre's\, refreshments\, and door prizes.  Advanced Tickets $10  Door Tickets $12.  Tickets available at UPS Store in Cross Creek Shopping Center.
LOCATION:
UID:e.1212.2766
SEQUENCE:3
DTSTAMP:20260425T140123Z
URL:https://business.beaufortchamber.org/events/details/the-event-of-the-season-10-28-2008-2766
END:VEVENT

END:VCALENDAR
