BEGIN:VCALENDAR
VERSION:2.0
PRODID:-//ChamberMaster//Event Calendar 2.0//EN
METHOD:PUBLISH
X-PUBLISHED-TTL:P3D
REFRESH-INTERVAL:P3D
CALSCALE:GREGORIAN
BEGIN:VEVENT
DTSTART;VALUE=DATE:20221215
DTEND;VALUE=DATE:20221216
TRANSP:TRANSPARENT
X-MICROSOFT-CDO-ALLDAYEVENT:TRUE
SUMMARY:The Future of Naval Hospital | Community Advancement Council Meeting
DESCRIPTION:Curious about the ongoing project by the Chamber's Military Enhancement Committee about the future of Naval Hospital Beaufort? Join us virtually for the Chambers quarterly Community Advancement Council meeting. This forum is always open to all members\, and it's a great way to stay on top of local issues and news. Ben Coppage and Ian Scott will share the latest developments and conversations among many community stakeholders to begin long-range planning for the 112 acres that border Beaufort River.
X-ALT-DESC;FMTTYPE=text/html:<span style="font-family:arial\,sans-serif\;"><span style="font-size:10.0pt\;">Curious about the ongoing project by the Chamber&rsquo\;s Military Enhancement Committee about the future of Naval Hospital Beaufort? Join us virtually for the Chambers quarterly Community Advancement Council meeting. This forum is always open to all members\, and it&rsquo\;s a great way to stay on top of local issues and news. Ben Coppage and Ian Scott will share the latest developments and conversations among many community stakeholders to begin long-range planning for the 112 acres that border Beaufort River. </span></span><br />\n<br />\n&nbsp\;
LOCATION:Zoom Link: https://us06web.zoom.us/j/84915132239
UID:e.1212.13334
SEQUENCE:3
DTSTAMP:20260424T204432Z
URL:https://business.beaufortchamber.org/events/details/the-future-of-naval-hospital-community-advancement-council-meeting-13334
END:VEVENT

END:VCALENDAR
