BEGIN:VCALENDAR
VERSION:2.0
PRODID:-//ChamberMaster//Event Calendar 2.0//EN
METHOD:PUBLISH
X-PUBLISHED-TTL:P3D
REFRESH-INTERVAL:P3D
CALSCALE:GREGORIAN
BEGIN:VEVENT
DTSTART;VALUE=DATE:20190524
DTEND;VALUE=DATE:20190527
TRANSP:TRANSPARENT
X-MICROSOFT-CDO-ALLDAYEVENT:TRUE
SUMMARY:The Original Gullah Festival
DESCRIPTION:The Gullah Festival of Beaufort\, SC was created to celebrate the rich Gullah culture. Join us Memorial Day weekend\, May 24th - 26th for some good entertainment and family fun!
X-ALT-DESC;FMTTYPE=text/html:<span style="color: rgb(29\, 33\, 41)\; font-family: system-ui\, -apple-system\, system-ui\, &quot\;.SFNSText-Regular&quot\;\, sans-serif\; font-size: 14px\; white-space: pre-wrap\;">The Gullah Festival of Beaufort\, SC was created to celebrate the rich Gullah culture. Join us Memorial Day weekend\, May 24th - 26th for some good entertainment and family fun!</span>
LOCATION:Henry C. Chambers Waterfront Park Beaufort\, SC
UID:e.1212.11587
SEQUENCE:3
DTSTAMP:20260422T175312Z
URL:https://business.beaufortchamber.org/events/details/the-original-gullah-festival-11587
END:VEVENT

END:VCALENDAR
