BEGIN:VCALENDAR
VERSION:2.0
PRODID:-//ChamberMaster//Event Calendar 2.0//EN
METHOD:PUBLISH
X-PUBLISHED-TTL:P3D
REFRESH-INTERVAL:P3D
CALSCALE:GREGORIAN
BEGIN:VEVENT
DTSTART;VALUE=DATE:20081031
DTEND;VALUE=DATE:20081101
TRANSP:TRANSPARENT
X-MICROSOFT-CDO-ALLDAYEVENT:TRUE
SUMMARY:The Parish Church of St. Helena Fall Bazaar
DESCRIPTION:Bazaar Preview  (no sales) Mission Team meals and Silent Auction bids are available.
X-ALT-DESC;FMTTYPE=text/html:Bazaar Preview  (no sales) Mission Team meals and Silent Auction bids are available.
LOCATION:
UID:e.1212.2659
SEQUENCE:3
DTSTAMP:20260425T145940Z
URL:https://business.beaufortchamber.org/events/details/the-parish-church-of-st-helena-fall-bazaar-10-31-2008-2659
END:VEVENT

END:VCALENDAR
