BEGIN:VCALENDAR
VERSION:2.0
PRODID:-//ChamberMaster//Event Calendar 2.0//EN
METHOD:PUBLISH
X-PUBLISHED-TTL:P3D
REFRESH-INTERVAL:P3D
CALSCALE:GREGORIAN
BEGIN:VEVENT
DTSTART;VALUE=DATE:20081101
DTEND;VALUE=DATE:20081102
TRANSP:TRANSPARENT
X-MICROSOFT-CDO-ALLDAYEVENT:TRUE
SUMMARY:The Parish Church of St. Helena Fall Bazaar
DESCRIPTION:Featured booths include Holiday House\, Boutique/Crafts\, Church Mice\, Bargain Spot\, Frozen Foods\, Baked Goods\, Books\, Plants\, Paws/Claws\, Silent Auction and much more !
X-ALT-DESC;FMTTYPE=text/html:Featured booths include Holiday House\, Boutique/Crafts\, Church Mice\, Bargain Spot\, Frozen Foods\, Baked Goods\, Books\, Plants\, Paws/Claws\, Silent Auction and much more !
LOCATION:
UID:e.1212.2740
SEQUENCE:3
DTSTAMP:20260425T151754Z
URL:https://business.beaufortchamber.org/events/details/the-parish-church-of-st-helena-fall-bazaar-11-01-2008-2740
END:VEVENT

END:VCALENDAR
