BEGIN:VCALENDAR
VERSION:2.0
PRODID:-//ChamberMaster//Event Calendar 2.0//EN
METHOD:PUBLISH
X-PUBLISHED-TTL:P3D
REFRESH-INTERVAL:P3D
CALSCALE:GREGORIAN
BEGIN:VEVENT
DTSTART:20200314T120000Z
DTEND:20200314T180000Z
X-MICROSOFT-CDO-ALLDAYEVENT:FALSE
SUMMARY:The Pickled Eagle Championship
DESCRIPTION:Come out for a Pickleball Tournament to benefit Beaufort High tennis.
X-ALT-DESC;FMTTYPE=text/html:Come out for a Pickleball Tournament to benefit Beaufort High tennis.<br />\n&nbsp\;
LOCATION:Beaufort High School Tennis Courts
UID:e.1212.12495
SEQUENCE:3
DTSTAMP:20260420T151723Z
URL:https://business.beaufortchamber.org/events/details/the-pickled-eagle-championship-12495
END:VEVENT

END:VCALENDAR
