BEGIN:VCALENDAR
VERSION:2.0
PRODID:-//ChamberMaster//Event Calendar 2.0//EN
METHOD:PUBLISH
X-PUBLISHED-TTL:P3D
REFRESH-INTERVAL:P3D
CALSCALE:GREGORIAN
BEGIN:VEVENT
DTSTART;VALUE=DATE:20080117
DTEND;VALUE=DATE:20080118
TRANSP:TRANSPARENT
X-MICROSOFT-CDO-ALLDAYEVENT:TRUE
SUMMARY:The President's Circle
DESCRIPTION:Featuring artists\, Rebecca Davenport and Cheryl Neison.  Advanced Tickets Required.  $20 each.  Call the Arts Council of Beaufort County for more information.
X-ALT-DESC;FMTTYPE=text/html:Featuring artists\, Rebecca Davenport and Cheryl Neison.  Advanced Tickets Required.  $20 each.  Call the Arts Council of Beaufort County for more information.
LOCATION:
UID:e.1212.2100
SEQUENCE:3
DTSTAMP:20260425T005206Z
URL:https://business.beaufortchamber.org/events/details/the-president-s-circle-01-17-2008-2100
END:VEVENT

END:VCALENDAR
