BEGIN:VCALENDAR
VERSION:2.0
PRODID:-//ChamberMaster//Event Calendar 2.0//EN
METHOD:PUBLISH
X-PUBLISHED-TTL:P3D
REFRESH-INTERVAL:P3D
CALSCALE:GREGORIAN
BEGIN:VEVENT
DTSTART;VALUE=DATE:20080313
DTEND;VALUE=DATE:20080314
TRANSP:TRANSPARENT
X-MICROSOFT-CDO-ALLDAYEVENT:TRUE
SUMMARY:The President's Circle
DESCRIPTION:See art in the Lowcountry home environment.  Martin McFie of Hilton Head Island hosts artist Stephen\nKishel.  Advanced Tickets Required.  $20 each.  Call the Arts Council of Beaufort County for more information.
X-ALT-DESC;FMTTYPE=text/html:See art in the Lowcountry home environment.  Martin McFie of Hilton Head Island hosts artist Stephen\nKishel.  Advanced Tickets Required.  $20 each.  Call the Arts Council of Beaufort County for more information.
LOCATION:
UID:e.1212.2101
SEQUENCE:3
DTSTAMP:20260425T024606Z
URL:https://business.beaufortchamber.org/events/details/the-president-s-circle-03-13-2008-2101
END:VEVENT

END:VCALENDAR
