BEGIN:VCALENDAR
VERSION:2.0
PRODID:-//ChamberMaster//Event Calendar 2.0//EN
METHOD:PUBLISH
X-PUBLISHED-TTL:P3D
REFRESH-INTERVAL:P3D
CALSCALE:GREGORIAN
BEGIN:VEVENT
DTSTART;VALUE=DATE:20080319
DTEND;VALUE=DATE:20080320
TRANSP:TRANSPARENT
X-MICROSOFT-CDO-ALLDAYEVENT:TRUE
SUMMARY:The Splash Bracelet Class
DESCRIPTION:Reservations are required.  Cost:  $27.  Please call or email for materials needed and to reserve your\nspace.
X-ALT-DESC;FMTTYPE=text/html:Reservations are required.  Cost:  $27.  Please call or email for materials needed and to reserve your\nspace.
LOCATION:
UID:e.1212.2267
SEQUENCE:3
DTSTAMP:20260425T024550Z
URL:https://business.beaufortchamber.org/events/details/the-splash-bracelet-class-03-19-2008-2267
END:VEVENT

END:VCALENDAR
