BEGIN:VCALENDAR
VERSION:2.0
PRODID:-//ChamberMaster//Event Calendar 2.0//EN
METHOD:PUBLISH
X-PUBLISHED-TTL:P3D
REFRESH-INTERVAL:P3D
CALSCALE:GREGORIAN
BEGIN:VEVENT
DTSTART;VALUE=DATE:20080302
DTEND;VALUE=DATE:20080303
TRANSP:TRANSPARENT
X-MICROSOFT-CDO-ALLDAYEVENT:TRUE
SUMMARY:Third Day of Tours
DESCRIPTION:Judgement House is a professional quality\, nine-scene interactive walk-through drama\, which powerfully presents the gospel through a relevant and gripping story.  Visitors are led through a series of rooms that tell a story about people whose lives have been cut short through some kind of tragedy.  You will experience dramatically how their deaths impact their family and what happens to them beyond the grave.  Each Judgement House tour takes about 50 minutes.  Groups (20 people) will start every 12 minutes.
X-ALT-DESC;FMTTYPE=text/html:Judgement House is a professional quality\, nine-scene interactive walk-through drama\, which powerfully presents the gospel through a relevant and gripping story.  Visitors are led through a series of rooms that tell a story about people whose lives have been cut short through some kind of tragedy.  You will experience dramatically how their deaths impact their family and what happens to them beyond the grave.  Each Judgement House tour takes about 50 minutes.  Groups (20 people) will start every 12 minutes.
LOCATION:Ridgeland\, SC
UID:e.1212.2227
SEQUENCE:3
DTSTAMP:20260425T024605Z
URL:https://business.beaufortchamber.org/events/details/third-day-of-tours-03-02-2008-2227
END:VEVENT

END:VCALENDAR
