BEGIN:VCALENDAR
VERSION:2.0
PRODID:-//ChamberMaster//Event Calendar 2.0//EN
METHOD:PUBLISH
X-PUBLISHED-TTL:P3D
REFRESH-INTERVAL:P3D
CALSCALE:GREGORIAN
BEGIN:VEVENT
DTSTART;VALUE=DATE:20080214
DTEND;VALUE=DATE:20080215
TRANSP:TRANSPARENT
X-MICROSOFT-CDO-ALLDAYEVENT:TRUE
SUMMARY:Thursday Art Class with Linda Sheppard
DESCRIPTION:Intermediate and advanced.  Cost:  $225.  Topic:  Strengthening Your Paintings in Composition\, Value and\ncolor II\, pastel or oil.  Class size limited.
X-ALT-DESC;FMTTYPE=text/html:Intermediate and advanced.  Cost:  $225.  Topic:  Strengthening Your Paintings in Composition\, Value and\ncolor II\, pastel or oil.  Class size limited.
LOCATION:
UID:e.1212.2147
SEQUENCE:3
DTSTAMP:20260425T005754Z
URL:https://business.beaufortchamber.org/events/details/thursday-art-class-with-linda-sheppard-02-14-2008-2147
END:VEVENT

END:VCALENDAR
