BEGIN:VCALENDAR
VERSION:2.0
PRODID:-//ChamberMaster//Event Calendar 2.0//EN
METHOD:PUBLISH
X-PUBLISHED-TTL:P3D
REFRESH-INTERVAL:P3D
CALSCALE:GREGORIAN
BEGIN:VEVENT
DTSTART;VALUE=DATE:20080124
DTEND;VALUE=DATE:20080125
TRANSP:TRANSPARENT
X-MICROSOFT-CDO-ALLDAYEVENT:TRUE
SUMMARY:Thursday Pottery Classes
DESCRIPTION:Thursday classes taught by Trevor Foster.  10 am-Noon\, Hand-building   1pm-3 pm\, Intro    and 6 pm-8 pm\, Intro & Advanced Pottery.  Each class is $110\, due by first class.  Clay sold\nin 25# increments @ $1 lb.
X-ALT-DESC;FMTTYPE=text/html:Thursday classes taught by Trevor Foster.  10 am-Noon\, Hand-building & Sculpture\; 1pm-3 pm\, Intro & Advanced Pottery\;  and 6 pm-8 pm\, Intro & Advanced Pottery.  Each class is $110\, due by first class.  Clay sold\nin 25# increments @ $1 lb.
LOCATION:
UID:e.1212.2107
SEQUENCE:3
DTSTAMP:20260424T233944Z
URL:https://business.beaufortchamber.org/events/details/thursday-pottery-classes-01-24-2008-2107
END:VEVENT

END:VCALENDAR
