BEGIN:VCALENDAR
VERSION:2.0
PRODID:-//ChamberMaster//Event Calendar 2.0//EN
METHOD:PUBLISH
X-PUBLISHED-TTL:P3D
REFRESH-INTERVAL:P3D
CALSCALE:GREGORIAN
BEGIN:VEVENT
DTSTART;VALUE=DATE:20080319
DTEND;VALUE=DATE:20080320
TRANSP:TRANSPARENT
X-MICROSOFT-CDO-ALLDAYEVENT:TRUE
SUMMARY:Tools for the Emerging Writer
DESCRIPTION:Learn the tools & techniques you need to get published or self-publish.  The first sesion of a four-part series is with local author Carl T. Smith.  Free.  Please RSVP to Colleen at the Arts Council.
X-ALT-DESC;FMTTYPE=text/html:Learn the tools & techniques you need to get published or self-publish.  The first sesion of a four-part series is with local author Carl T. Smith.  Free.  Please RSVP to Colleen at the Arts Council.
LOCATION:
UID:e.1212.2261
SEQUENCE:3
DTSTAMP:20260425T024442Z
URL:https://business.beaufortchamber.org/events/details/tools-for-the-emerging-writer-03-19-2008-2261
END:VEVENT

END:VCALENDAR
