BEGIN:VCALENDAR
VERSION:2.0
PRODID:-//ChamberMaster//Event Calendar 2.0//EN
METHOD:PUBLISH
X-PUBLISHED-TTL:P3D
REFRESH-INTERVAL:P3D
CALSCALE:GREGORIAN
BEGIN:VEVENT
DTSTART:20200428T170000Z
DTEND:20200428T180000Z
X-MICROSOFT-CDO-ALLDAYEVENT:FALSE
SUMMARY:Town Hall with Congressman Joe Cunningham
DESCRIPTION:On Tuesday\,  April 28th at 1:00 p.m.\, the Beaufort Regional Chamber will host a virtual town hall meeting for the business community with Congressman Joe Cunningham. Join to hear the latest about Congresses' response to the virus and the economy and ask your questions.
X-ALT-DESC;FMTTYPE=text/html:<p style="color: rgb(0\, 0\, 0)\; font-family: Times New Roman\; font-size: 16px\; font-style: normal\; font-variant: normal\; font-weight: 400\; letter-spacing: normal\; orphans: 2\; text-align: left\; text-decoration: none\; text-indent: 0px\; text-transform: none\; -webkit-text-stroke-width: 0px\; white-space: normal\; word-spacing: 0px\;"><span style="font-size:12px\;"><span style="font-family:arial\;">On Tuesday\,&nbsp\; April 28th at 1:00 p.m.\, the Beaufort Regional Chamber will host a virtual town hall meeting for the business community with Congressman Joe Cunningham. Join to hear the latest about Congresses&rsquo\; response to the virus and the economy and ask your questions.</span></span></p>\n
LOCATION:Online meeting. Participants must pre-register to attend. A link will be sent via email prior to the event.
UID:e.1212.12525
SEQUENCE:3
DTSTAMP:20260420T135455Z
URL:https://business.beaufortchamber.org/events/details/town-hall-with-congressman-joe-cunningham-12525
END:VEVENT

END:VCALENDAR
