BEGIN:VCALENDAR
VERSION:2.0
PRODID:-//ChamberMaster//Event Calendar 2.0//EN
METHOD:PUBLISH
X-PUBLISHED-TTL:P3D
REFRESH-INTERVAL:P3D
CALSCALE:GREGORIAN
BEGIN:VEVENT
DTSTART;VALUE=DATE:20080315
DTEND;VALUE=DATE:20080316
TRANSP:TRANSPARENT
X-MICROSOFT-CDO-ALLDAYEVENT:TRUE
SUMMARY:Tri-Command Annual Easter Egg Hunt
DESCRIPTION:Open to all Tri-Command children & families.  Activities include:  jumpers\, crafts\, cookie decorating\,\nrefreshments and 5\,000 eggs will be hidden along with prize eggs.  The first 100 children dressed in an Easter bonnet or with a decorated Easter basket will receive an extra prize!  Sponsored by Tri-Command \ncommunities and Marine Corps Community Services.
X-ALT-DESC;FMTTYPE=text/html:Open to all Tri-Command children & families.  Activities include:  jumpers\, crafts\, cookie decorating\,\nrefreshments and 5\,000 eggs will be hidden along with prize eggs.  The first 100 children dressed in an Easter bonnet or with a decorated Easter basket will receive an extra prize!  Sponsored by Tri-Command \ncommunities and Marine Corps Community Services.
LOCATION:
UID:e.1212.2239
SEQUENCE:3
DTSTAMP:20260425T024358Z
URL:https://business.beaufortchamber.org/events/details/tri-command-annual-easter-egg-hunt-03-15-2008-2239
END:VEVENT

END:VCALENDAR
