BEGIN:VCALENDAR
VERSION:2.0
PRODID:-//ChamberMaster//Event Calendar 2.0//EN
METHOD:PUBLISH
X-PUBLISHED-TTL:P3D
REFRESH-INTERVAL:P3D
CALSCALE:GREGORIAN
BEGIN:VEVENT
DTSTART;VALUE=DATE:20081023
DTEND;VALUE=DATE:20081024
TRANSP:TRANSPARENT
X-MICROSOFT-CDO-ALLDAYEVENT:TRUE
SUMMARY:Trick or Treat Night
DESCRIPTION:Kids put on your favorite Halloween costume and bring your treat bags !  Come visit the many stores and businesses in the area for a safe "Trick or Treat " night out on the town - bring your parents too.  Free and open to the public.
X-ALT-DESC;FMTTYPE=text/html:Kids put on your favorite Halloween costume and bring your treat bags !  Come visit the many stores and businesses in the area for a safe "Trick or Treat " night out on the town - bring your parents too.  Free and open to the public.
LOCATION:
UID:e.1212.2631
SEQUENCE:3
DTSTAMP:20260425T135145Z
URL:https://business.beaufortchamber.org/events/details/trick-or-treat-night-10-23-2008-2631
END:VEVENT

END:VCALENDAR
