BEGIN:VCALENDAR
VERSION:2.0
PRODID:-//ChamberMaster//Event Calendar 2.0//EN
METHOD:PUBLISH
X-PUBLISHED-TTL:P3D
REFRESH-INTERVAL:P3D
CALSCALE:GREGORIAN
BEGIN:VEVENT
DTSTART;VALUE=DATE:20080302
DTEND;VALUE=DATE:20080303
TRANSP:TRANSPARENT
X-MICROSOFT-CDO-ALLDAYEVENT:TRUE
SUMMARY:United States Army Field Band Concert
DESCRIPTION:The Field Band will perform a diverse program of marches\, overtures\, popular music\, patriotric selections\nand instrumental and vocal solos.  Doors open at 2:15 with general seating.  Free tickets can be picked up\nat The Beaufort Gazette\, 1556 Salem Road\, Beaufort.  Maximum 6 tickets per person.   Free concert\nsponsored by The Beaufort Gazette.
X-ALT-DESC;FMTTYPE=text/html:The Field Band will perform a diverse program of marches\, overtures\, popular music\, patriotric selections\nand instrumental and vocal solos.  Doors open at 2:15 with general seating.  Free tickets can be picked up\nat The Beaufort Gazette\, 1556 Salem Road\, Beaufort.  Maximum 6 tickets per person.   Free concert\nsponsored by The Beaufort Gazette.
LOCATION:
UID:e.1212.2187
SEQUENCE:3
DTSTAMP:20260425T024829Z
URL:https://business.beaufortchamber.org/events/details/united-states-army-field-band-concert-03-02-2008-2187
END:VEVENT

END:VCALENDAR
