BEGIN:VCALENDAR
VERSION:2.0
PRODID:-//ChamberMaster//Event Calendar 2.0//EN
METHOD:PUBLISH
X-PUBLISHED-TTL:P3D
REFRESH-INTERVAL:P3D
CALSCALE:GREGORIAN
BEGIN:VEVENT
DTSTART;VALUE=DATE:20081115
DTEND;VALUE=DATE:20081116
TRANSP:TRANSPARENT
X-MICROSOFT-CDO-ALLDAYEVENT:TRUE
SUMMARY:United States Marine Corps Birthday Celebration
DESCRIPTION:Your invited to celebrate the 233rd Birthday of the USMC.  Family fun to include live entertainmnet\, children's activities and birthday cake.  Free to all local military and their families.  General public is also invited and encouraged to attend.
X-ALT-DESC;FMTTYPE=text/html:Your invited to celebrate the 233rd Birthday of the USMC.  Family fun to include live entertainmnet\, children's activities and birthday cake.  Free to all local military and their families.  General public is also invited and encouraged to attend.
LOCATION:
UID:e.1212.2811
SEQUENCE:3
DTSTAMP:20260425T150257Z
URL:https://business.beaufortchamber.org/events/details/united-states-marine-corps-birthday-celebration-11-15-2008-2811
END:VEVENT

END:VCALENDAR
