BEGIN:VCALENDAR
VERSION:2.0
PRODID:-//ChamberMaster//Event Calendar 2.0//EN
METHOD:PUBLISH
X-PUBLISHED-TTL:P3D
REFRESH-INTERVAL:P3D
CALSCALE:GREGORIAN
BEGIN:VEVENT
DTSTART;VALUE=DATE:20080122
DTEND;VALUE=DATE:20080123
TRANSP:TRANSPARENT
X-MICROSOFT-CDO-ALLDAYEVENT:TRUE
SUMMARY:University of South Carolina Beaufort Sand Shark Mascot Unveiling
DESCRIPTION:
X-ALT-DESC;FMTTYPE=text/html:
LOCATION:Bluffton
UID:e.1212.2139
SEQUENCE:3
DTSTAMP:20260425T010604Z
URL:https://business.beaufortchamber.org/events/details/university-of-south-carolina-beaufort-sand-shark-mascot-unveiling-01-22-2008-2139
END:VEVENT

END:VCALENDAR
