BEGIN:VCALENDAR
VERSION:2.0
PRODID:-//ChamberMaster//Event Calendar 2.0//EN
METHOD:PUBLISH
X-PUBLISHED-TTL:P3D
REFRESH-INTERVAL:P3D
CALSCALE:GREGORIAN
BEGIN:VEVENT
DTSTART;VALUE=DATE:20080309
DTEND;VALUE=DATE:20080310
TRANSP:TRANSPARENT
X-MICROSOFT-CDO-ALLDAYEVENT:TRUE
SUMMARY:USAF Rhythm in Blue Jazz Ensemble
DESCRIPTION:USAF Rhythm in Blue Jazz Ensemble sponsored by Main Street Beaufort\, Arts Council of Beaufort County\, and\nthe City of  Beaufort.
X-ALT-DESC;FMTTYPE=text/html:USAF Rhythm in Blue Jazz Ensemble sponsored by Main Street Beaufort\, Arts Council of Beaufort County\, and\nthe City of  Beaufort.
LOCATION:
UID:e.1212.2152
SEQUENCE:3
DTSTAMP:20260425T024550Z
URL:https://business.beaufortchamber.org/events/details/usaf-rhythm-in-blue-jazz-ensemble-03-09-2008-2152
END:VEVENT

END:VCALENDAR
