BEGIN:VCALENDAR
VERSION:2.0
PRODID:-//ChamberMaster//Event Calendar 2.0//EN
METHOD:PUBLISH
X-PUBLISHED-TTL:P3D
REFRESH-INTERVAL:P3D
CALSCALE:GREGORIAN
BEGIN:VEVENT
DTSTART;VALUE=DATE:20081102
DTEND;VALUE=DATE:20081103
TRANSP:TRANSPARENT
X-MICROSOFT-CDO-ALLDAYEVENT:TRUE
SUMMARY:USCB Festival Series Concert
DESCRIPTION:Featuring Charles Wadsworth and Friends Reiko Aizawa\, Hsin-Yun Huang\, Edward Arron.  Subscriptions for  five-concert season tickets available.  Individual tickets B&C $50\, A&D $45\, E&F 40.
X-ALT-DESC;FMTTYPE=text/html:Featuring Charles Wadsworth and Friends Reiko Aizawa\, Hsin-Yun Huang\, Edward Arron.  Subscriptions for  five-concert season tickets available.  Individual tickets B&C $50\, A&D $45\, E&F 40.
LOCATION:Beaufort
UID:e.1212.2464
SEQUENCE:3
DTSTAMP:20260425T150535Z
URL:https://business.beaufortchamber.org/events/details/uscb-festival-series-concert-11-02-2008-2464
END:VEVENT

END:VCALENDAR
