BEGIN:VCALENDAR
VERSION:2.0
PRODID:-//ChamberMaster//Event Calendar 2.0//EN
METHOD:PUBLISH
X-PUBLISHED-TTL:P3D
REFRESH-INTERVAL:P3D
CALSCALE:GREGORIAN
BEGIN:VEVENT
DTSTART;VALUE=DATE:20080310
DTEND;VALUE=DATE:20080311
TRANSP:TRANSPARENT
X-MICROSOFT-CDO-ALLDAYEVENT:TRUE
SUMMARY:USCB Lunch With Author Series
DESCRIPTION:Internationally renowned best-selling author\, Susan Vreeland\, is known for historical fiction on art-related\nthemes.  Vreeland will discuss her latest novel\, Luncheon of the Boating Party.  The all inclusive price (lunch\,\ntalk\, Q & A) is $50.  Books will be available for purchase as well as book signing.  Vreeland's appearance\nis sponsored by the University of South Carolina Beaufort Continuing Education.  Reservations required by\nphone or email.
X-ALT-DESC;FMTTYPE=text/html:Internationally renowned best-selling author\, Susan Vreeland\, is known for historical fiction on art-related\nthemes.  Vreeland will discuss her latest novel\, Luncheon of the Boating Party.  The all inclusive price (lunch\,\ntalk\, Q & A) is $50.  Books will be available for purchase as well as book signing.  Vreeland's appearance\nis sponsored by the University of South Carolina Beaufort Continuing Education.  Reservations required by\nphone or email.
LOCATION:
UID:e.1212.2238
SEQUENCE:3
DTSTAMP:20260425T040640Z
URL:https://business.beaufortchamber.org/events/details/uscb-lunch-with-author-series-03-10-2008-2238
END:VEVENT

END:VCALENDAR
