BEGIN:VCALENDAR
VERSION:2.0
PRODID:-//ChamberMaster//Event Calendar 2.0//EN
METHOD:PUBLISH
X-PUBLISHED-TTL:P3D
REFRESH-INTERVAL:P3D
CALSCALE:GREGORIAN
BEGIN:VEVENT
DTSTART;VALUE=DATE:20080214
DTEND;VALUE=DATE:20080215
TRANSP:TRANSPARENT
X-MICROSOFT-CDO-ALLDAYEVENT:TRUE
SUMMARY:Valentine's Dinners
DESCRIPTION:Have an elegant\, candlelit Valentine's dinner.  Call for reservations.  Seating is limited.
X-ALT-DESC;FMTTYPE=text/html:Have an elegant\, candlelit Valentine's dinner.  Call for reservations.  Seating is limited.
LOCATION:Beaufort Historic District
UID:e.1212.2219
SEQUENCE:3
DTSTAMP:20260425T005747Z
URL:https://business.beaufortchamber.org/events/details/valentine-s-dinners-02-14-2008-2219
END:VEVENT

END:VCALENDAR
