BEGIN:VCALENDAR
VERSION:2.0
PRODID:-//ChamberMaster//Event Calendar 2.0//EN
METHOD:PUBLISH
X-PUBLISHED-TTL:P3D
REFRESH-INTERVAL:P3D
CALSCALE:GREGORIAN
BEGIN:VEVENT
DTSTART;VALUE=DATE:20081024
DTEND;VALUE=DATE:20081025
TRANSP:TRANSPARENT
X-MICROSOFT-CDO-ALLDAYEVENT:TRUE
SUMMARY:Veteran Art Show
DESCRIPTION:Contact Veterans Affairs Office for pre-registration forms or to volunteer.   Must be registered by Thursday\, October 30.  Art work will not be for sale.  Artist may submit visual art pieces.
X-ALT-DESC;FMTTYPE=text/html:Contact Veterans Affairs Office for pre-registration forms or to volunteer.   Must be registered by Thursday\, October 30.  Art work will not be for sale.  Artist may submit visual art pieces.
LOCATION:
UID:e.1212.2772
SEQUENCE:3
DTSTAMP:20260425T135134Z
URL:https://business.beaufortchamber.org/events/details/veteran-art-show-10-24-2008-2772
END:VEVENT

END:VCALENDAR
