BEGIN:VCALENDAR
VERSION:2.0
PRODID:-//ChamberMaster//Event Calendar 2.0//EN
METHOD:PUBLISH
X-PUBLISHED-TTL:P3D
REFRESH-INTERVAL:P3D
CALSCALE:GREGORIAN
BEGIN:VEVENT
DTSTART;VALUE=DATE:20081111
DTEND;VALUE=DATE:20081112
TRANSP:TRANSPARENT
X-MICROSOFT-CDO-ALLDAYEVENT:TRUE
SUMMARY:Veteran Art Show
DESCRIPTION:Art from the art show will be on display at the cemetary as a backdrop for the Veteran's Day Ceremony.  Art work will not be for sale.
X-ALT-DESC;FMTTYPE=text/html:Art from the art show will be on display at the cemetary as a backdrop for the Veteran's Day Ceremony.  Art work will not be for sale.
LOCATION:
UID:e.1212.2774
SEQUENCE:3
DTSTAMP:20260425T160458Z
URL:https://business.beaufortchamber.org/events/details/veteran-art-show-11-11-2008-2774
END:VEVENT

END:VCALENDAR
