BEGIN:VCALENDAR
VERSION:2.0
PRODID:-//ChamberMaster//Event Calendar 2.0//EN
METHOD:PUBLISH
X-PUBLISHED-TTL:P3D
REFRESH-INTERVAL:P3D
CALSCALE:GREGORIAN
BEGIN:VEVENT
DTSTART:20250331T140000Z
DTEND:20250331T190000Z
X-MICROSOFT-CDO-ALLDAYEVENT:FALSE
SUMMARY:VITA Free Tax Service
DESCRIPTION:VITA (Volunteer Income Tax Assistance) is preparing taxes for FREE onsite at the Morris Center on Mondays\, February 3 to April 7. Closed February 17 for Presidents' Day.\n\nIs your individual or family household income less than $67\,000? Are you non-English speaking\, disabled or 60 years of age and older? You may be eligible to have your 2024 taxes prepared for FREE by a trusted IRS certified volunteer through the VITA program!\n\nBring Social Security Cards/ITINs (entire family). Walk-ins first come\, first serve. The last tax return is started at least one hour prior to closing at all sites. For more information or to book an appointment\, visit https://uwlowcountry.org/our-work/vita
X-ALT-DESC;FMTTYPE=text/html:<p style="line-height: 1.4\; color: rgb(34\, 34\, 34)\; font-family: adobe-jenson-pro-display\, serif\; font-size: 24px\;"><span style="line-height:1.4">VITA (Volunteer Income Tax Assistance) is preparing taxes for FREE onsite at the Morris Center on Mondays\, February 3 to April 7. Closed February 17 for Presidents&#39\; Day.</span></p>\n\n<p style="line-height: 1.4\; color: rgb(34\, 34\, 34)\; font-family: adobe-jenson-pro-display\, serif\; font-size: 24px\;"><span style="line-height:1.4">Is your individual or family household income less than $67\,000? Are you non-English speaking\, disabled or 60 years of age and older? You may be eligible to have your 2024 taxes prepared for FREE by a trusted IRS certified volunteer through the VITA program!</span></p>\n\n<p style="line-height: 1.4\; color: rgb(34\, 34\, 34)\; font-family: adobe-jenson-pro-display\, serif\; font-size: 24px\;"><span style="line-height:1.4"><font color="#050505" face="inherit">Bring Social Security Cards/ITINs (entire family).</font></span>&nbsp\;<span style="line-height:1.4"><font color="#050505" face="inherit">Walk-ins first come\, first serve. The last tax return is started at least one hour prior to closing at all sites. For more information or to book an appointment\, visit&nbsp\;<a href="https://uwlowcountry.org/our-work/vita/" style="color: rgb(135\, 47\, 47)\; text-decoration-line: none\; font-weight: bold\;" target="_blank">https://uwlowcountry.org/our-work/vita</a>&nbsp\;</font></span></p>\n
LOCATION:Morris Center for Lowcountry Heritage
UID:e.1212.14164
SEQUENCE:3
DTSTAMP:20260423T122049Z
URL:https://business.beaufortchamber.org/events/details/vita-free-tax-service-03-31-2025-14164
END:VEVENT

END:VCALENDAR
