BEGIN:VCALENDAR
VERSION:2.0
PRODID:-//ChamberMaster//Event Calendar 2.0//EN
METHOD:PUBLISH
X-PUBLISHED-TTL:P3D
REFRESH-INTERVAL:P3D
CALSCALE:GREGORIAN
BEGIN:VEVENT
DTSTART;VALUE=DATE:20080117
DTEND;VALUE=DATE:20080118
TRANSP:TRANSPARENT
X-MICROSOFT-CDO-ALLDAYEVENT:TRUE
SUMMARY:Volkssport Club Weekend Event
DESCRIPTION:A weekend of volkssport events including 8 walks\, one bike\, 3 swims\, and the\nHistoric Savannah Walk hosted by The Happy Wanderers Volkssport Club.  Beaufort walk only on Saturday\, Jan. 19.  Early registration Thursday\, Jan. 17\, 6 pm-9 pm at Doubletree Hotel in Savannah.  Cost:  $3 per event.  All active duty military & dependents can participate free unless walking for credit.  Social held at the Hyatt Regency on Friday\, Jan. 18.  Pre-registration required.  Call the number listed for telephone reservations\nat $47 per person.  Contact the website for more information on the events.
X-ALT-DESC;FMTTYPE=text/html:A weekend of volkssport events including 8 walks\, one bike\, 3 swims\, and the\nHistoric Savannah Walk hosted by The Happy Wanderers Volkssport Club.  Beaufort walk only on Saturday\, Jan. 19.  Early registration Thursday\, Jan. 17\, 6 pm-9 pm at Doubletree Hotel in Savannah.  Cost:  $3 per event.  All active duty military & dependents can participate free unless walking for credit.  Social held at the Hyatt Regency on Friday\, Jan. 18.  Pre-registration required.  Call the number listed for telephone reservations\nat $47 per person.  Contact the website for more information on the events.\n
LOCATION:
UID:e.1212.2112
SEQUENCE:3
DTSTAMP:20260424T234611Z
URL:https://business.beaufortchamber.org/events/details/volkssport-club-weekend-event-01-17-2008-2112
END:VEVENT

END:VCALENDAR
