BEGIN:VCALENDAR
VERSION:2.0
PRODID:-//ChamberMaster//Event Calendar 2.0//EN
METHOD:PUBLISH
X-PUBLISHED-TTL:P3D
REFRESH-INTERVAL:P3D
CALSCALE:GREGORIAN
BEGIN:VEVENT
DTSTART;VALUE=DATE:20080302
DTEND;VALUE=DATE:20080303
TRANSP:TRANSPARENT
X-MICROSOFT-CDO-ALLDAYEVENT:TRUE
SUMMARY:Wadsworth Series Concert
DESCRIPTION:Featuring Kenji Bunch\, Jesse Mills and Erika Nickrenz
X-ALT-DESC;FMTTYPE=text/html:Featuring Kenji Bunch\, Jesse Mills and Erika Nickrenz
LOCATION:Beaufort
UID:e.1212.1384
SEQUENCE:3
DTSTAMP:20260425T041930Z
URL:https://business.beaufortchamber.org/events/details/wadsworth-series-concert-03-02-2008-1384
END:VEVENT

END:VCALENDAR
