BEGIN:VCALENDAR
VERSION:2.0
PRODID:-//ChamberMaster//Event Calendar 2.0//EN
METHOD:PUBLISH
X-PUBLISHED-TTL:P3D
REFRESH-INTERVAL:P3D
CALSCALE:GREGORIAN
BEGIN:VEVENT
DTSTART;VALUE=DATE:20080309
DTEND;VALUE=DATE:20080310
TRANSP:TRANSPARENT
X-MICROSOFT-CDO-ALLDAYEVENT:TRUE
SUMMARY:Wire Wrap Rings Class
DESCRIPTION:You will make two sterling silver rings.  Call or email for details and materials needed.  Reservations required.  Fee:  $25
X-ALT-DESC;FMTTYPE=text/html:You will make two sterling silver rings.  Call or email for details and materials needed.  Reservations required.  Fee:  $25
LOCATION:
UID:e.1212.2230
SEQUENCE:3
DTSTAMP:20260425T023807Z
URL:https://business.beaufortchamber.org/events/details/wire-wrap-rings-class-03-09-2008-2230
END:VEVENT

END:VCALENDAR
