BEGIN:VCALENDAR
VERSION:2.0
PRODID:-//ChamberMaster//Event Calendar 2.0//EN
METHOD:PUBLISH
X-PUBLISHED-TTL:P3D
REFRESH-INTERVAL:P3D
CALSCALE:GREGORIAN
BEGIN:VEVENT
DTSTART:20190109T223000Z
DTEND:20190109T233000Z
X-MICROSOFT-CDO-ALLDAYEVENT:FALSE
SUMMARY:YA Everlasting Book Club
DESCRIPTION:If you are an adult or teen who enjoys reading Young Adult Literature\, this book club is for you!\n\n\n\nWednesday\, January 9th | And I Darken by Kiersten White\n\nWednesday\, February 13th | When Dimple Met Rishi by Sandhya Menon\n\nWednesday\, March 13th | Woodwalker by Emily B. Martin\n\nWednesday\, April 10th | The Astonishing Color of After by Emily X.R. Pan
X-ALT-DESC;FMTTYPE=text/html:<span style="font-size:12px\;"><span style="font-family:verdana\;"><span style="color: rgb(33\, 33\, 33)\;">If you are an adult or teen who enjoys reading Young Adult Literature\, this book club is for you!</span><br style="color: rgb(33\, 33\, 33)\; font-family: wf_segoe-ui_normal\, &quot\;Segoe UI&quot\;\, &quot\;Segoe WP&quot\;\, Tahoma\, Arial\, sans-serif\, serif\, EmojiFont\; font-size: 14.6667px\;" />\n<br style="color: rgb(33\, 33\, 33)\; font-family: wf_segoe-ui_normal\, &quot\;Segoe UI&quot\;\, &quot\;Segoe WP&quot\;\, Tahoma\, Arial\, sans-serif\, serif\, EmojiFont\; font-size: 14.6667px\;" />\n<span style="color: rgb(33\, 33\, 33)\;">Wednesday\, January 9th | And I Darken by Kiersten White</span><br style="color: rgb(33\, 33\, 33)\; font-family: wf_segoe-ui_normal\, &quot\;Segoe UI&quot\;\, &quot\;Segoe WP&quot\;\, Tahoma\, Arial\, sans-serif\, serif\, EmojiFont\; font-size: 14.6667px\;" />\n<span style="color: rgb(33\, 33\, 33)\;">Wednesday\, February 13th | When Dimple Met Rishi by Sandhya Menon</span><br style="color: rgb(33\, 33\, 33)\; font-family: wf_segoe-ui_normal\, &quot\;Segoe UI&quot\;\, &quot\;Segoe WP&quot\;\, Tahoma\, Arial\, sans-serif\, serif\, EmojiFont\; font-size: 14.6667px\;" />\n<span style="color: rgb(33\, 33\, 33)\;">Wednesday\, March 13th | Woodwalker by Emily B. Martin</span><br style="color: rgb(33\, 33\, 33)\; font-family: wf_segoe-ui_normal\, &quot\;Segoe UI&quot\;\, &quot\;Segoe WP&quot\;\, Tahoma\, Arial\, sans-serif\, serif\, EmojiFont\; font-size: 14.6667px\;" />\n<span style="color: rgb(33\, 33\, 33)\;">Wednesday\, April 10th | The Astonishing Color of After by Emily X.R. Pan</span></span></span>
LOCATION:Beaufort Branch Library\, 311 Scott St. Beaufort\, SC 29902
UID:e.1212.10731
SEQUENCE:3
DTSTAMP:20260422T234410Z
URL:https://business.beaufortchamber.org/events/details/ya-everlasting-book-club-10731
END:VEVENT

END:VCALENDAR
