BEGIN:VCALENDAR
VERSION:2.0
PRODID:-//ChamberMaster//Event Calendar 2.0//EN
METHOD:PUBLISH
X-PUBLISHED-TTL:P3D
REFRESH-INTERVAL:P3D
CALSCALE:GREGORIAN
BEGIN:VEVENT
DTSTART;VALUE=DATE:20080216
DTEND;VALUE=DATE:20080217
TRANSP:TRANSPARENT
X-MICROSOFT-CDO-ALLDAYEVENT:TRUE
SUMMARY:ZINGA: Meet the Artists - Wine & Cheese Reception
DESCRIPTION:"ZINGA: The Beauty and Diversity of Lowcountry Art".  An exhibition of 10 emerging artists from South Carolina and Georgia.  Paintings in watercolor\, oil and acrylic demonstrate a diversity of style\, media and backgrounds. Free and open to the public
X-ALT-DESC;FMTTYPE=text/html:"ZINGA: The Beauty and Diversity of Lowcountry Art".  An exhibition of 10 emerging artists from South Carolina and Georgia.  Paintings in watercolor\, oil and acrylic demonstrate a diversity of style\, media and backgrounds. <b>Free and open to the public</b>
LOCATION:St. Helena Island
UID:e.1212.2217
SEQUENCE:3
DTSTAMP:20260425T010351Z
URL:https://business.beaufortchamber.org/events/details/zinga-meet-the-artists-wine-cheese-reception-02-16-2008-2217
END:VEVENT

END:VCALENDAR
